BEGIN:VCALENDAR
VERSION:2.0
PRODID:-//masterclass - ECPv6.0.9//NONSGML v1.0//EN
CALSCALE:GREGORIAN
METHOD:PUBLISH
X-ORIGINAL-URL:https://bcognitive.com.au/masterclass
X-WR-CALDESC:Events for masterclass
REFRESH-INTERVAL;VALUE=DURATION:PT1H
X-Robots-Tag:noindex
X-PUBLISHED-TTL:PT1H
BEGIN:VTIMEZONE
TZID:UTC
BEGIN:STANDARD
TZOFFSETFROM:+0000
TZOFFSETTO:+0000
TZNAME:UTC
DTSTART:20210101T000000
END:STANDARD
END:VTIMEZONE
BEGIN:VEVENT
DTSTART;TZID=UTC:20210213T113000
DTEND;TZID=UTC:20210213T133000
DTSTAMP:20260425T124443
CREATED:20230628T081402Z
LAST-MODIFIED:20230628T113251Z
UID:211-1613215800-1613223000@bcognitive.com.au
SUMMARY:MY NDIS MY PSYCHOSOCIAL RECOVERY ( Part 2 )
DESCRIPTION:MY NDIS MY PSYCHOSOCIAL RECOVERY ( Part 2 )  \nAn open invite from BCOGNITIVE to the family and friends of NDIS participants to learn how the NDIS works and how they can best support their loved ones during the process.
URL:https://bcognitive.com.au/masterclass/event/my-ndis-my-psychosocial-recovery-part-2/
LOCATION:BCOGNITIVE Main Office
ATTACH;FMTTYPE=image/jpeg:https://bcognitive.com.au/masterclass/wp-content/uploads/2023/06/2-1.jpg
END:VEVENT
END:VCALENDAR