BEGIN:VCALENDAR
VERSION:2.0
PRODID:-//masterclass - ECPv6.0.9//NONSGML v1.0//EN
CALSCALE:GREGORIAN
METHOD:PUBLISH
X-ORIGINAL-URL:https://bcognitive.com.au/masterclass
X-WR-CALDESC:Events for masterclass
REFRESH-INTERVAL;VALUE=DURATION:PT1H
X-Robots-Tag:noindex
X-PUBLISHED-TTL:PT1H
BEGIN:VTIMEZONE
TZID:UTC
BEGIN:STANDARD
TZOFFSETFROM:+0000
TZOFFSETTO:+0000
TZNAME:UTC
DTSTART:20210101T000000
END:STANDARD
END:VTIMEZONE
BEGIN:VEVENT
DTSTART;TZID=UTC:20210410T113000
DTEND;TZID=UTC:20210410T133000
DTSTAMP:20260425T104603
CREATED:20230628T091153Z
LAST-MODIFIED:20230628T113240Z
UID:219-1618054200-1618061400@bcognitive.com.au
SUMMARY:MENTAL HEALTH Plan-GETTING STARTED
DESCRIPTION:MENTAL HEALTH Plan-GETTING STARTED  \nHere is everything you need to know about getting started and what you can expect from your mental health plan. Let BCOGNITIVE walk you through the process and how your plan can benefit you.
URL:https://bcognitive.com.au/masterclass/event/mental-health-plan-getting-started/
LOCATION:BCOGNITIVE Main Office
ATTACH;FMTTYPE=image/jpeg:https://bcognitive.com.au/masterclass/wp-content/uploads/2023/06/4.jpg
END:VEVENT
END:VCALENDAR