BEGIN:VCALENDAR
VERSION:2.0
PRODID:-//masterclass - ECPv6.0.9//NONSGML v1.0//EN
CALSCALE:GREGORIAN
METHOD:PUBLISH
X-ORIGINAL-URL:https://bcognitive.com.au/masterclass
X-WR-CALDESC:Events for masterclass
REFRESH-INTERVAL;VALUE=DURATION:PT1H
X-Robots-Tag:noindex
X-PUBLISHED-TTL:PT1H
BEGIN:VTIMEZONE
TZID:UTC
BEGIN:STANDARD
TZOFFSETFROM:+0000
TZOFFSETTO:+0000
TZNAME:UTC
DTSTART:20210101T000000
END:STANDARD
END:VTIMEZONE
BEGIN:VEVENT
DTSTART;TZID=UTC:20210814T113000
DTEND;TZID=UTC:20210814T133000
DTSTAMP:20260425T120208
CREATED:20230628T104331Z
LAST-MODIFIED:20230628T113207Z
UID:237-1628940600-1628947800@bcognitive.com.au
SUMMARY:MY MENTAL HEALTH - MY JOURNEY
DESCRIPTION:MY MENTAL HEALTH – MY JOURNEY \nBCOGNITIVE invites you to a group feedback session to discuss your progress and thoughts on your mental health plan and the process you undertook.
URL:https://bcognitive.com.au/masterclass/event/my-mental-health-my-journey/
LOCATION:External
ATTACH;FMTTYPE=image/jpeg:https://bcognitive.com.au/masterclass/wp-content/uploads/2023/06/8.jpg
END:VEVENT
BEGIN:VEVENT
DTSTART;TZID=UTC:20210911T113000
DTEND;TZID=UTC:20210911T133000
DTSTAMP:20260425T120208
CREATED:20230628T104828Z
LAST-MODIFIED:20230628T113147Z
UID:241-1631359800-1631367000@bcognitive.com.au
SUMMARY:SELF-LOVE\, SELF-CARE
DESCRIPTION:SELF-LOVE\, SELF-CARE \nA relaxed and engaging session run by BCOGNITIVE to share useful ways to look after yourself mentally\, emotionally\, and physically.
URL:https://bcognitive.com.au/masterclass/event/self-love-self-care/
LOCATION:External
ATTACH;FMTTYPE=image/jpeg:https://bcognitive.com.au/masterclass/wp-content/uploads/2023/06/9.jpg
END:VEVENT
BEGIN:VEVENT
DTSTART;TZID=UTC:20211009T113000
DTEND;TZID=UTC:20211009T133000
DTSTAMP:20260425T120208
CREATED:20230628T105221Z
LAST-MODIFIED:20230628T113141Z
UID:245-1633779000-1633786200@bcognitive.com.au
SUMMARY:MENTAL HEALTH TRIGGERS AND STRATEGIES
DESCRIPTION:MENTAL HEALTH TRIGGERS AND STRATEGIES \nIn this session\, BCOGNITIVE discusses triggering events with a focus on management strategies to enable participants to better handle triggering events.
URL:https://bcognitive.com.au/masterclass/event/mental-health-triggers-and-strategies/
LOCATION:BCOGNITIVE Main Office
ATTACH;FMTTYPE=image/jpeg:https://bcognitive.com.au/masterclass/wp-content/uploads/2023/06/10.jpg
END:VEVENT
BEGIN:VEVENT
DTSTART;TZID=UTC:20211113T113000
DTEND;TZID=UTC:20211113T133000
DTSTAMP:20260425T120208
CREATED:20230628T105636Z
LAST-MODIFIED:20230628T113131Z
UID:249-1636803000-1636810200@bcognitive.com.au
SUMMARY:MY PSYCHOSOCIAL RECOVERY JOURNEY
DESCRIPTION:MY PSYCHOSOCIAL RECOVERY JOURNEY \nA casual group session to exchange views on what has been helpful in your psychosocial recovery journey. BCOGNITIVE invites you to share your views on what has worked\, and how we can improve this experience going forward.
URL:https://bcognitive.com.au/masterclass/event/my-psychosocial-recovery-journey/
LOCATION:BCOGNITIVE Main Office
ATTACH;FMTTYPE=image/jpeg:https://bcognitive.com.au/masterclass/wp-content/uploads/2023/06/11.jpg
END:VEVENT
BEGIN:VEVENT
DTSTART;TZID=UTC:20211218T113000
DTEND;TZID=UTC:20211218T133000
DTSTAMP:20260425T120208
CREATED:20230628T110118Z
LAST-MODIFIED:20230628T113125Z
UID:253-1639827000-1639834200@bcognitive.com.au
SUMMARY:BCOGNITIVE CHRISTMAS PARTY
DESCRIPTION:BCOGNITIVE CHRISTMAS PARTY \nBCOGNITIVE invites you to a friendly Christmas event to celebrate the remarkable mental health milestones that have been achieved over the year.
URL:https://bcognitive.com.au/masterclass/event/bcognitive-christmas-party/
LOCATION:External
ATTACH;FMTTYPE=image/jpeg:https://bcognitive.com.au/masterclass/wp-content/uploads/2023/06/12-1.jpg
END:VEVENT
END:VCALENDAR