BEGIN:VCALENDAR
VERSION:2.0
PRODID:-//masterclass - ECPv6.0.9//NONSGML v1.0//EN
CALSCALE:GREGORIAN
METHOD:PUBLISH
X-WR-CALNAME:masterclass
X-ORIGINAL-URL:https://bcognitive.com.au/masterclass
X-WR-CALDESC:Events for masterclass
REFRESH-INTERVAL;VALUE=DURATION:PT1H
X-Robots-Tag:noindex
X-PUBLISHED-TTL:PT1H
BEGIN:VTIMEZONE
TZID:UTC
BEGIN:STANDARD
TZOFFSETFROM:+0000
TZOFFSETTO:+0000
TZNAME:UTC
DTSTART:20210101T000000
END:STANDARD
END:VTIMEZONE
BEGIN:VEVENT
DTSTART;TZID=UTC:20210612T113000
DTEND;TZID=UTC:20210612T130000
DTSTAMP:20260425T041021
CREATED:20230628T102947Z
LAST-MODIFIED:20230628T113217Z
UID:227-1623497400-1623502800@bcognitive.com.au
SUMMARY:CHOICE AND CONTROL WHAT DOES IT MEAN?
DESCRIPTION:CHOICE AND CONTROL WHAT DOES IT MEAN? \nAn open and friendly discussion about one of the most used phrases in the NDIS. \nBCOGNITIVE discusses what “choice and control” actually means and how you can achieve it.
URL:https://bcognitive.com.au/masterclass/event/choice-and-control-what-does-it-mean/
LOCATION:External
ATTACH;FMTTYPE=image/jpeg:https://bcognitive.com.au/masterclass/wp-content/uploads/2023/06/6.jpg
END:VEVENT
END:VCALENDAR