BEGIN:VCALENDAR
VERSION:2.0
PRODID:-//masterclass - ECPv6.0.9//NONSGML v1.0//EN
CALSCALE:GREGORIAN
METHOD:PUBLISH
X-ORIGINAL-URL:https://bcognitive.com.au/masterclass
X-WR-CALDESC:Events for masterclass
REFRESH-INTERVAL;VALUE=DURATION:PT1H
X-Robots-Tag:noindex
X-PUBLISHED-TTL:PT1H
BEGIN:VTIMEZONE
TZID:UTC
BEGIN:STANDARD
TZOFFSETFROM:+0000
TZOFFSETTO:+0000
TZNAME:UTC
DTSTART:20210101T000000
END:STANDARD
END:VTIMEZONE
BEGIN:VEVENT
DTSTART;TZID=UTC:20210710T113000
DTEND;TZID=UTC:20210710T133000
DTSTAMP:20260425T023512
CREATED:20230628T103658Z
LAST-MODIFIED:20230628T113212Z
UID:232-1625916600-1625923800@bcognitive.com.au
SUMMARY:PREPARING FOR AN NDIS PLAN REVIEW
DESCRIPTION:PREPARING FOR AN NDIS PLAN REVIEW \nBCOGNITIVE presents a session dedicated to preparing for and getting the most out of your plan review.
URL:https://bcognitive.com.au/masterclass/event/preparing-for-an-ndis-plan-review/
LOCATION:BCOGNITIVE Main Office
ATTACH;FMTTYPE=image/jpeg:https://bcognitive.com.au/masterclass/wp-content/uploads/2023/06/7.jpg
END:VEVENT
END:VCALENDAR